BEGIN:VCALENDAR
VERSION:2.0
PRODID:-//SaskMustard - ECPv6.15.20//NONSGML v1.0//EN
CALSCALE:GREGORIAN
METHOD:PUBLISH
X-WR-CALNAME:SaskMustard
X-ORIGINAL-URL:https://saskmustard.com
X-WR-CALDESC:Events for SaskMustard
REFRESH-INTERVAL;VALUE=DURATION:PT1H
X-Robots-Tag:noindex
X-PUBLISHED-TTL:PT1H
BEGIN:VTIMEZONE
TZID:America/Regina
BEGIN:STANDARD
TZOFFSETFROM:-0600
TZOFFSETTO:-0600
TZNAME:CST
DTSTART:20150101T000000
END:STANDARD
END:VTIMEZONE
BEGIN:VEVENT
DTSTART;TZID=America/Regina:20260115T090000
DTEND;TZID=America/Regina:20260115T150000
DTSTAMP:20260424T120555
CREATED:20160606T195511Z
LAST-MODIFIED:20260108T184756Z
UID:129-1768467600-1768489200@saskmustard.com
SUMMARY:Annual General Meeting - Hybrid
DESCRIPTION:  \nAnnual General Meeting\nThursday\, January 15\, 2025\nHall A\, Prairieland Park – Saskatoon\, Saskatchewan\nRegistration is now open here! \n2026 Sask Mustard AGM Agenda \n 
URL:https://saskmustard.com/event/annual-general-meeting/
LOCATION:Prairieland Park\, Hall A\, 503 Ruth Street West\, Saskatoon\, Saskatchewan\, S7K 4E4\, Canada
CATEGORIES:Mustard Grower Events
ATTACH;FMTTYPE=image/jpeg:https://saskmustard.com/wp-content/uploads/2016/06/oriental-mustard-closeup.jpg
END:VEVENT
BEGIN:VEVENT
DTSTART;TZID=America/Regina:20220721T083000
DTEND;TZID=America/Regina:20220721T160000
DTSTAMP:20260424T120555
CREATED:20220628T224805Z
LAST-MODIFIED:20220628T225313Z
UID:2299-1658392200-1658419200@saskmustard.com
SUMMARY:Sask Mustard and Wheatland Conservation Area Field Day
DESCRIPTION:Call Saskatchewan Agriculture at 306-778-8285 for more details and to register.
URL:https://saskmustard.com/event/sask-mustard-and-wheatland-conservation-area-field-day/
LOCATION:Swift Current
CATEGORIES:Mustard Grower Events
END:VEVENT
BEGIN:VEVENT
DTSTART;TZID=America/Regina:20190718T083000
DTEND;TZID=America/Regina:20190718T160000
DTSTAMP:20260424T120555
CREATED:20190610T172354Z
LAST-MODIFIED:20190708T231316Z
UID:2017-1563438600-1563465600@saskmustard.com
SUMMARY:Mustard and Wheatland Conservation Area  Field Day
DESCRIPTION:Save the date for Mustard and Wheatland Conservation Area Field Day in Swift Current. \nFeaturing: \n\nMustard Variety Trials\nSeeding Rates and Fertility for Hybrid Brown Mustard\nAgronomic Practices for Weed Control\nKochia Control Project\nCanola Seeding Depth and Fertility Trials\nFertility for Malt versus Feed Barley\n\nRegistration is $20 and includes lunch and refreshments. \nCall Saskatchewan Agriculture by July 11 at 306-778-8285 to sign up! \nHosted by: Pioneer Co-op\, Saskatchewan Agriculture\, Sask Mustard & Wheatland Conservation Area. \n  \n  \n  \n  \n  \n  \n 
URL:https://saskmustard.com/event/mustard-and-wheatland-conservation-area-field-day/
LOCATION:Swift Current
CATEGORIES:Mustard Grower Events
END:VEVENT
BEGIN:VEVENT
DTSTART;TZID=America/Regina:20180719T083000
DTEND;TZID=America/Regina:20180719T160000
DTSTAMP:20260424T120555
CREATED:20180628T164858Z
LAST-MODIFIED:20180628T164858Z
UID:1888-1531989000-1532016000@saskmustard.com
SUMMARY:Durum/Mustard Field Day
DESCRIPTION:No registration fee\, but please register in advance as soon as possible by calling Saskatchewan Agriculture at 306-778-8285. \n(Presentation order subject to change) \n\n\n\n\n	8:30 a.m.Registration at the Thomson Room\n\n\n	9:00 a.m.Opening Remarks and Welcome\n\n\n	9:15 a.m.Travel to the AAFC field plots \n\n\n	9:30 a.m.Durum Yield Trial – Ron DePauw\, SeCan\n\n\n	9:55 a.m.Historical Durum Variety Demonstration – Ron DePauw\, SeCan\n\n\n	10:20 a.m.Durum Variety Trial – Yuefeng Ruan\, AAFC\n\n\n	10:55 a.m.Durum and Pulses in Rotation – Yantai Gan\, AAFC and Mitchell Japp\, Saskatchewan Agriculture\n\n\n	11:20 a.m.Chickpea and Flax Intercropping Demonstration – Michelle Hubbard\, AAFC\n\n\n	11:45 a.m.Travel to the Thomson Room\n\n\n	12:00 p.m.Lunch\n\n\n	1:15 p.m.Travel to the AAFC field plots\n\n\n	1:30 p.m.Mustard Variety Trial – Bifang Cheng\, AAFC\n\n\n	1:50 p.mTravel to Wheatland Conservation Area field plots\n\n\n	2:00 p.m.Mustard Hybrid Demonstration – Matthew Bernard\, Saskatchewan Agriculture\n\n\n	2:25 p.m.Mustard Fertility Demonstration – Matthew Bernard\, Saskatchewan Agriculture\n\n\n	2:50 p.m.UAN and Wheat Fertility – TBA\n\n\n	3:25 p.m.Phosphorus Fertility and Management in Lentil – Shannon Chant\, Saskatchewan Agriculture\n\n\n	3:45 p.m.Travel to Thomson Room \n\n\n	4:00 p.m.Wrap Up and Safe Travels Home\n\n\n\n\nHosted by: \n• Agriculture and Agri-Food Canada\n• Saskatchewan Agriculture\n• Sask Mustard\n• SeCan\n• Wheatland Conservation Area
URL:https://saskmustard.com/event/durum-mustard-field-day/
LOCATION:Gate 4\, Swift Current Research and Development Centre\, Swift Current\, SK
CATEGORIES:Mustard Grower Events
END:VEVENT
BEGIN:VEVENT
DTSTART;VALUE=DATE:20180710
DTEND;VALUE=DATE:20180716
DTSTAMP:20260424T120555
CREATED:20170614T233216Z
LAST-MODIFIED:20171103T193523Z
UID:1251-1531180800-1531699199@saskmustard.com
SUMMARY:Taste of Saskatchewan Chef's Series
DESCRIPTION:   \nLive demos and competitions featuring some of Saskatchewan’s best chefs and some beautiful Saskatchewan-produced ingredients. \n 
URL:https://saskmustard.com/event/taste-saskatchewan-chefs-series/
LOCATION:Kiwanis Park\, Downtown\, Saskatoon\, SK
CATEGORIES:Mustard Events
ATTACH;FMTTYPE=image/jpeg:https://saskmustard.com/wp-content/uploads/2017/06/Taste-of-Sask-Chefs-Series-700.jpg
END:VEVENT
BEGIN:VEVENT
DTSTART;VALUE=DATE:20180210
DTEND;VALUE=DATE:20180211
DTSTAMP:20260424T120555
CREATED:20170203T161352Z
LAST-MODIFIED:20171101T230619Z
UID:994-1518220800-1518307199@saskmustard.com
SUMMARY:Saskatoon Chefs’ Gala & Showcase
DESCRIPTION:This is a night out that’s definitely not to be missed – theatre\, opera and chamber music intermingle with seven delectable courses by some of Saskatoon’s finest culinary artisans.
URL:https://saskmustard.com/event/saskatoon-chefs-gala-showcase/
LOCATION:Prairieland Park\, Hall A\, 503 Ruth Street West\, Saskatoon\, Saskatchewan\, S7K 4E4\, Canada
CATEGORIES:Mustard Events
END:VEVENT
BEGIN:VEVENT
DTSTART;VALUE=DATE:20180108
DTEND;VALUE=DATE:20180112
DTSTAMP:20260424T120555
CREATED:20171103T195756Z
LAST-MODIFIED:20171103T195900Z
UID:1647-1515369600-1515715199@saskmustard.com
SUMMARY:Western Canadian Crop Production Show
DESCRIPTION:
URL:https://saskmustard.com/event/western-canadian-crop-production-show/
LOCATION:Prairieland Park\, Hall A\, 503 Ruth Street West\, Saskatoon\, Saskatchewan\, S7K 4E4\, Canada
CATEGORIES:Mustard Grower Events
END:VEVENT
BEGIN:VEVENT
DTSTART;TZID=America/Regina:20171117T083000
DTEND;TZID=America/Regina:20171117T150000
DTSTAMP:20260424T120555
CREATED:20171103T195539Z
LAST-MODIFIED:20171103T195539Z
UID:1644-1510907400-1510930800@saskmustard.com
SUMMARY:Saskatchewan Oilseed Producer Meeting - North Battleford
DESCRIPTION:For full agenda and to pre-register\, please visit: www.saskcanola.com or call 1-877-241-7044.
URL:https://saskmustard.com/event/saskatchewan-oilseed-producer-meeting-north-battleford/
LOCATION:Dekker Centre\, 623 Carlton Trail\, North Battleford\, SK
CATEGORIES:Mustard Grower Events
END:VEVENT
BEGIN:VEVENT
DTSTART;TZID=America/Regina:20171116T083000
DTEND;TZID=America/Regina:20171116T150000
DTSTAMP:20260424T120555
CREATED:20160824T210056Z
LAST-MODIFIED:20171103T194236Z
UID:667-1510821000-1510844400@saskmustard.com
SUMMARY:Saskatchewan Oilseed Producer Meeting - Rosetown
DESCRIPTION:For full agenda and to pre-register\, please visit: www.saskcanola.com or call 1-877-241-7044.
URL:https://saskmustard.com/event/saskatchewan-oilseed-producer-meeting-rosetown/
LOCATION:Civic Centre\, 1005 Main St\, Rosetown\, SK
CATEGORIES:Mustard Grower Events
END:VEVENT
BEGIN:VEVENT
DTSTART;TZID=America/Regina:20171115T083000
DTEND;TZID=America/Regina:20171115T150000
DTSTAMP:20260424T120555
CREATED:20160824T210205Z
LAST-MODIFIED:20171103T194917Z
UID:665-1510734600-1510758000@saskmustard.com
SUMMARY:Saskatchewan Oilseed Producer Meeting - Swift Current
DESCRIPTION:For full agenda and to pre-register\, please visit: www.saskcanola.com or call 1-877-241-7044.
URL:https://saskmustard.com/event/saskatchewan-oilseed-producer-meeting-swift-current/
LOCATION:Credit Union i-plex\, 2001 Chaplin St East\, Swift Current\, SK
CATEGORIES:Mustard Grower Events
END:VEVENT
BEGIN:VEVENT
DTSTART;TZID=America/Regina:20171114T083000
DTEND;TZID=America/Regina:20171114T150000
DTSTAMP:20260424T120555
CREATED:20171103T195138Z
LAST-MODIFIED:20171103T195138Z
UID:1642-1510648200-1510671600@saskmustard.com
SUMMARY:Saskatchewan Oilseed Producer Meeting - Moose Jaw
DESCRIPTION:For full agenda and to pre-register\, please visit: www.saskcanola.com or call 1-877-241-7044.
URL:https://saskmustard.com/event/saskatchewan-oilseed-producer-meeting-moose-jaw/
LOCATION:Heritage Inn\, 1590 Main Street North\, Moose Jaw\, SK
CATEGORIES:Mustard Grower Events
END:VEVENT
BEGIN:VEVENT
DTSTART;VALUE=DATE:20171001
DTEND;VALUE=DATE:20171101
DTSTAMP:20260424T120555
CREATED:20160912T220312Z
LAST-MODIFIED:20170824T171637Z
UID:688-1506816000-1509494399@saskmustard.com
SUMMARY:Our Food Has a Story: Agriculture Month
DESCRIPTION:With the Ministry of Agriculture’s theme of ‘Our Food Has a Story‘ this October\, we wanted to make sure you knew a bit about mustard’s story: \n\nThere are over 1000 mustard growers in Saskatchewan\nMustard plants produce about 1000 pounds of seed per acre\nCanada accounts for almost two thirds of all global mustard exports\nOver 700 million pounds of mustard are consumed worldwide each year\nFrance’s Louis XI never traveled without his royal pot of mustard\, for fear he might be served inferior mustard\nPope John XXII was so fond of mustard that he created a new Vatican position\, the ‘grand moutardier du pape’ (mustard-maker to the pope)\, and appointed his nephew to the post\nIn Denmark and India\, it’s thought that spreading mustard seed around the exterior of the home will keep out evil spirits\nThe ancient Greek scientist Pythagoras recommended mustard as treatment for a scorpion sting\n\nNow you know!   #OurFoodHasAStory    #AgMonth17     #MyMustard    #SpreadTheMustard
URL:https://saskmustard.com/event/food-story-agriculture-month/
CATEGORIES:Mustard Events
ATTACH;FMTTYPE=image/png:https://saskmustard.com/wp-content/uploads/2016/09/OurFoodHasAStory-800.png
END:VEVENT
BEGIN:VEVENT
DTSTART;TZID=America/Regina:20170929T110000
DTEND;TZID=America/Regina:20170929T140000
DTSTAMP:20260424T120555
CREATED:20170824T183407Z
LAST-MODIFIED:20170914T194751Z
UID:1524-1506682800-1506693600@saskmustard.com
SUMMARY:Agriculture Month Kick-Off BBQ
DESCRIPTION:Join us for a burger and mustard to kick off Agriculture Month in Saskatchewan. There will be local farmers and ranchers on site flipping burgers and all proceeds will be donated to the Saskatoon Food Bank & Learning Centre. The event will feature interactive activities for kids\, plenty of photo ops and a great opportunity to learn about Saskatchewan grown food!
URL:https://saskmustard.com/event/agriculture-month-kick-off-bbq/
LOCATION:Co-op Marketplace\, 402 Ludlow St\, Saskatoon\, SK
CATEGORIES:Mustard Events
END:VEVENT
BEGIN:VEVENT
DTSTART;VALUE=DATE:20170906
DTEND;VALUE=DATE:20170910
DTSTAMP:20260424T120555
CREATED:20170203T161835Z
LAST-MODIFIED:20170824T171039Z
UID:996-1504656000-1505001599@saskmustard.com
SUMMARY:YXEATS Food Festival
DESCRIPTION:YXEATS is all about exploring the eclectic food scene in Riversdale. It’s the best time to check out the mouth-watering options prepared by some of Saskatoon’s finest Chefs in the vibe of their own restaurant or to attend ticketed events designed to surprise and delight. \nJoin Saskatoon chef Scott Dicks in The Local Kitchen for the YXEATS Cooking School: Mustard Madness on Friday\, September 8 from 6:30 PM – 9:30 PM. Mustard is truly a Saskatchewan grown product and this class will teach you about the flavours and versatility of mustard as an addition to appetizers\, entrées and desserts. Space is limited\, so gather your friends for a splendid evening of food and fun and register now! Tickets are $75 + GST and available at yxeats.com. \nAlso\, new this year is the upscale Gold Table Dinner\, an impressive three-course meal featuring mustard in all its finery. Served by Chef Christie Peters of The Hollows\, this must-attend event features music\, prizes\, cocktails and gourmet dining amid the glamorous statuary of the Garden Architecture and Design greenhouse. This event takes place on Saturday September 9 and tickets are $150 +GST\, which includes a complimentary cocktail and glass of wine with your three course dinner. \nwww.yxeats.com
URL:https://saskmustard.com/event/riversdale-yxeats-festival/
LOCATION:Riversdale Community\, Saskatoon\, SK
CATEGORIES:Mustard Events
ATTACH;FMTTYPE=image/png:https://saskmustard.com/wp-content/uploads/2017/07/YXEats-logo.png
END:VEVENT
BEGIN:VEVENT
DTSTART;TZID=America/Regina:20170820T110000
DTEND;TZID=America/Regina:20170820T150000
DTSTAMP:20260424T120555
CREATED:20160610T151300Z
LAST-MODIFIED:20170817T154802Z
UID:242-1503226800-1503241200@saskmustard.com
SUMMARY:The Great Saskatchewan Mustard Festival
DESCRIPTION:Come enjoy mustard-infused creations made by some of the best local chefs while enjoying live music and lots of local fun! \nThe 10th Annual Great Saskatchewan Mustard Festival is an afternoon filled with food\, fun and a ton of mustard! Your ticket allows you to sample mustard-infused creations from over 25 local restaurants. This event is open to all ages. \nTickets available at picatic.com/116409 \nhttps://www.facebook.com/mustardfest/videos/468599773499778/
URL:https://saskmustard.com/event/great-saskatchewan-mustard-festival/
LOCATION:Queen Elizabeth II – West Park\, Wascana Centre\, Regina\, SK\, Canada
CATEGORIES:Mustard Events
ATTACH;FMTTYPE=image/jpeg:https://saskmustard.com/wp-content/uploads/2016/06/Mustard-Festival-_MG_9811-800.jpg
END:VEVENT
BEGIN:VEVENT
DTSTART;VALUE=DATE:20170805
DTEND;VALUE=DATE:20170806
DTSTAMP:20260424T120555
CREATED:20160804T171540Z
LAST-MODIFIED:20170728T133400Z
UID:620-1501891200-1501977599@saskmustard.com
SUMMARY:Celebration of All Things Mustard: Food Day Canada & National Mustard Day
DESCRIPTION:Sask Mustard is hosting a Celebration of All Things Mustard in the Market Kitchen at the Saskatoon Farmers’ Market on Saturday\, August 5 from 10 AM to 1 PM. \nIn honour of National Mustard Day and to celebrate Food Day Canada\, Sask Mustard is launching its new recipe collection #MyMustard with a tasting and free copies of their new cookbook. \nOn the menu are samples from the new collection that feature local ingredients like lentils\, turkey and of course mustard. Savour the colourful Beet\, Bocconcini & Tomato Lentil Salad\, dine on the decadent Mozzarella-Stuffed Turkey Meatballs in a Lemony Mustard Pesto Sauce and then enjoy the elevated Brown Butter & Mustard Rice Crispy Treats. \nFood Day Canada is a chance for all Canadians to join hands in one massive celebration in praise of our farmers and fishers; our chefs and researchers…and\, above all\, our home cooks. \nThe National Mustard Museum in Middleton\, Wisconsin has been the official sponsor of National Mustard Day since 1991\, so if you’re in the area\, be sure to stop by for mustard sampling! \n 
URL:https://saskmustard.com/event/national-mustard-day/
LOCATION:Saskatoon Farmers’ Market\, 414 Avenue B South\, Saskatoon\, SK
CATEGORIES:Mustard Events
ATTACH;FMTTYPE=image/jpeg:https://saskmustard.com/wp-content/uploads/2016/06/MyMustard-Recipe-Book-cover-750.jpg
END:VEVENT
BEGIN:VEVENT
DTSTART;TZID=America/Regina:20170718T133000
DTEND;TZID=America/Regina:20170718T163000
DTSTAMP:20260424T120555
CREATED:20170316T223834Z
LAST-MODIFIED:20170316T223834Z
UID:1059-1500384600-1500395400@saskmustard.com
SUMMARY:Mustard Research Tour
DESCRIPTION:See how new mustard varieties are being developed including hybrids and synthetic hybrids. Watch for more details closer to the event. \nThe Mustard Research Tour coincides with the Ag in Motion outdoor trade show July 18 to 20 northwest of Saskatoon.
URL:https://saskmustard.com/event/mustard-research-tour/
LOCATION:Agriculture and Agri-Food Canada Research Farm\, Saskatoon\, SK
CATEGORIES:Mustard Grower Events
END:VEVENT
BEGIN:VEVENT
DTSTART;VALUE=DATE:20170718
DTEND;VALUE=DATE:20170721
DTSTAMP:20260424T120555
CREATED:20170316T223721Z
LAST-MODIFIED:20170316T223721Z
UID:1060-1500336000-1500595199@saskmustard.com
SUMMARY:Ag In Motion: Western Canada’s Outdoor Farm Expo
DESCRIPTION:Ag in Motion is the first and only agricultural trade show in Western Canada that provides an outdoor venue for progressive farmers that want to see and feel the latest agricultural innovations – all in one place. \nFor more details check out aginmotion.ca
URL:https://saskmustard.com/event/ag-motion-western-canadas-outdoor-farm-expo/
LOCATION:Ag in Motion\, GPS:  52.3549\, -107.0718\, 15 min. NW of Saskatoon\, SK
CATEGORIES:Mustard Grower Events
END:VEVENT
BEGIN:VEVENT
DTSTART;VALUE=DATE:20170621
DTEND;VALUE=DATE:20170624
DTSTAMP:20260424T120555
CREATED:20170316T222601Z
LAST-MODIFIED:20170316T222729Z
UID:1055-1498003200-1498262399@saskmustard.com
SUMMARY:Canada’s Farm Progress Show
DESCRIPTION:Now in its 40th year\, Canada’s Farm Progress Show is the largest trade show in Canada. The show covers 1.9 million sq. ft. of trade show space and generated more than $500 million in sales in 2016. \nFor more information visit www.myfarmshow.com.
URL:https://saskmustard.com/event/canadas-farm-progress-show/
LOCATION:Evraz Place\, 1700 Elphinstone Street\, Regina\, SK
CATEGORIES:Mustard Grower Events
END:VEVENT
BEGIN:VEVENT
DTSTART;VALUE=DATE:20170306
DTEND;VALUE=DATE:20170308
DTSTAMP:20260424T120555
CREATED:20170203T181457Z
LAST-MODIFIED:20170214T170401Z
UID:1013-1488758400-1488931199@saskmustard.com
SUMMARY:Advancing Women Conference West
DESCRIPTION:The Advancing Women Conference is the premiere symposium for women in agriculture to listen\, learn\, network and grow! \nMore information here.
URL:https://saskmustard.com/event/advancing-women-conference-west/
LOCATION:Hyatt Regency Hotel\, Calgary\, AB
CATEGORIES:Mustard Grower Events
END:VEVENT
BEGIN:VEVENT
DTSTART;TZID=America/Regina:20170302T130000
DTEND;TZID=America/Regina:20170302T170000
DTSTAMP:20260424T120555
CREATED:20170203T181104Z
LAST-MODIFIED:20170214T170408Z
UID:1011-1488459600-1488474000@saskmustard.com
SUMMARY:Melfort Production Workshop
DESCRIPTION:Learn more about keeping track of your production records in the field\, minimizing harvest loss and tracking costs of production. \nMore information here.
URL:https://saskmustard.com/event/melfort-production-workshop/
LOCATION:Kerry Vickar Centre\, 206 Bemister Ave E\, Melfort\, SK
CATEGORIES:Mustard Grower Events
END:VEVENT
BEGIN:VEVENT
DTSTART;TZID=America/Regina:20170301T130000
DTEND;TZID=America/Regina:20170301T170000
DTSTAMP:20260424T120555
CREATED:20170203T180941Z
LAST-MODIFIED:20170214T170738Z
UID:1009-1488373200-1488387600@saskmustard.com
SUMMARY:North Battleford Production Workshop
DESCRIPTION:Learn more about keeping track of your production records in the field\, minimizing harvest loss and tracking costs of production. \nMore information here.
URL:https://saskmustard.com/event/north-battleford-production-workshop/
LOCATION:Western Development Museum\, Corner of highways 40 and 16\, North Battleford\, SK
CATEGORIES:Mustard Grower Events
END:VEVENT
BEGIN:VEVENT
DTSTART;TZID=America/Regina:20170228T130000
DTEND;TZID=America/Regina:20170228T170000
DTSTAMP:20260424T120555
CREATED:20170203T180724Z
LAST-MODIFIED:20170214T170625Z
UID:1002-1488286800-1488301200@saskmustard.com
SUMMARY:Moose Jaw Production Workshop
DESCRIPTION:Learn more about keeping track of your production records in the field\, minimizing harvest loss and tracking costs of production. \nMore information here.
URL:https://saskmustard.com/event/moose-jaw-production-workshop/
LOCATION:Heritage Inn\, 1590 Main Street North\, Moose Jaw\, SK
CATEGORIES:Mustard Grower Events
END:VEVENT
BEGIN:VEVENT
DTSTART;VALUE=DATE:20170206
DTEND;VALUE=DATE:20170211
DTSTAMP:20260424T120555
CREATED:20170131T173717Z
LAST-MODIFIED:20170131T173717Z
UID:980-1486339200-1486771199@saskmustard.com
SUMMARY:Tell us how Mustard spices up your life
DESCRIPTION:Share the love with a little giveaway February 6-10\, 2017; it’s five days and five chances to win! On Twitter and/or Instagram tell us how mustard spices up your life & you could win an apron for your main squeeze (open to Canadian residents excluding Quebec).
URL:https://saskmustard.com/event/tell-us-mustard-spices-life/
CATEGORIES:Mustard Events
ATTACH;FMTTYPE=image/jpeg:https://saskmustard.com/wp-content/uploads/2017/01/mustard-apron.jpg
END:VEVENT
BEGIN:VEVENT
DTSTART;VALUE=DATE:20170101
DTEND;VALUE=DATE:20170201
DTSTAMP:20260424T120555
CREATED:20170104T212719Z
LAST-MODIFIED:20170104T212719Z
UID:897-1483228800-1485907199@saskmustard.com
SUMMARY:National Soup Month
DESCRIPTION:While it’s still chilly out it makes sense that January is also #NationalSoupMonth. \nCelebrate with our Butternut Squash Soup with Brown Mustard Seeds & Braised Brussels Sprouts.
URL:https://saskmustard.com/event/national-soup-month/
CATEGORIES:Mustard Events
END:VEVENT
BEGIN:VEVENT
DTSTART;TZID=America/Regina:20161116T083000
DTEND;TZID=America/Regina:20161116T150000
DTSTAMP:20260424T120555
CREATED:20160824T210303Z
LAST-MODIFIED:20160824T210303Z
UID:666-1479285000-1479308400@saskmustard.com
SUMMARY:Saskatchewan Oilseed Producer Meeting - Prince Albert
DESCRIPTION:Meeting will feature sprayer specialist\, Tom Wolf\, market analyst\, Chuck Penner\, and agronomy information. For full agenda and to pre-register\, please visit: www.saskcanola.com or call 1-877-241-7044.
URL:https://saskmustard.com/event/saskatchewan-oilseed-producer-meeting-prince-albert/
LOCATION:Wildlife Federation\, 784 - 2 St E\, Prince Albert\, SK
CATEGORIES:Mustard Grower Events
END:VEVENT
BEGIN:VEVENT
DTSTART;TZID=America/Regina:20161115T083000
DTEND;TZID=America/Regina:20161115T150000
DTSTAMP:20260424T120555
CREATED:20160824T205354Z
LAST-MODIFIED:20160824T205553Z
UID:653-1479198600-1479222000@saskmustard.com
SUMMARY:Saskatchewan Oilseed Producer Meeting - Humboldt
DESCRIPTION:Meeting will feature sprayer specialist\, Tom Wolf\, market analyst\, Chuck Penner\, and agronomy information. For full agenda and to pre-register\, please visit: www.saskcanola.com or call 1-877-241-7044.
URL:https://saskmustard.com/event/saskatchewan-oilseed-producer-meeting-humboldt/
LOCATION:Uniplex Convention Centre\, 619 - 17 St\, Humboldt\, SK
CATEGORIES:Mustard Grower Events
END:VEVENT
BEGIN:VEVENT
DTSTART;TZID=America/Regina:20161114T083000
DTEND;TZID=America/Regina:20161114T150000
DTSTAMP:20260424T120555
CREATED:20160824T205204Z
LAST-MODIFIED:20160824T205541Z
UID:652-1479112200-1479135600@saskmustard.com
SUMMARY:Saskatchewan Oilseed Producer Meeting - Weyburn
DESCRIPTION:Meeting will feature sprayer specialist\, Tom Wolf\, market analyst\, Chuck Penner\, and agronomy information. For full agenda and to pre-register\, please visit: www.saskcanola.com or call 1-877-241-7044.
URL:https://saskmustard.com/event/saskatchewan-oilseed-producer-meeting-weyburn/
LOCATION:Legion Hall\, 150 3rd St NE\, Weyburn\, SK
CATEGORIES:Mustard Grower Events
END:VEVENT
BEGIN:VEVENT
DTSTART;VALUE=DATE:20161001
DTEND;VALUE=DATE:20161101
DTSTAMP:20260424T120555
CREATED:20161003T201654Z
LAST-MODIFIED:20161003T202447Z
UID:711-1475280000-1477958399@saskmustard.com
SUMMARY:National Cookbook Month
DESCRIPTION:Grab your favourite mustard recipe and get cooking! If you need some new ideas\, check out a few of ours: \n\nMustard Makeovers & More\nInspired by Mustard\nGreat Saskatchewan Mustard\nModern Mustard\nor stop by our Pinterest page for inspiration\n\n#MyMustard
URL:https://saskmustard.com/event/national-cookbook-month/
CATEGORIES:Mustard Events
END:VEVENT
BEGIN:VEVENT
DTSTART;VALUE=DATE:20160917
DTEND;VALUE=DATE:20160918
DTSTAMP:20260424T120555
CREATED:20160912T220632Z
LAST-MODIFIED:20160912T220632Z
UID:691-1474070400-1474156799@saskmustard.com
SUMMARY:YXE Street Food Festival
DESCRIPTION:
URL:https://saskmustard.com/event/yxe-street-food-festival/
LOCATION:River Landing\, Saskatoon\, SK
CATEGORIES:Mustard Events
END:VEVENT
END:VCALENDAR